BEGIN:VCALENDAR
VERSION:2.0
PRODID:-//ChamberMaster//Event Calendar 2.0//EN
METHOD:PUBLISH
X-PUBLISHED-TTL:P3D
REFRESH-INTERVAL:P3D
CALSCALE:GREGORIAN
BEGIN:VEVENT
DTSTART:20190912T213000Z
DTEND:20190912T233000Z
X-MICROSOFT-CDO-ALLDAYEVENT:FALSE
SUMMARY:2nd Annual Island Queen Sunset Cruise
DESCRIPTION:Join us for a 2 - Hour Sunset Cruise of Falmouth Harbor including views of Martha's Vineyard. Sandwich Buffet\, Appetizers & Assorted Desserts will be served. Cash Bar ONLY available. A wonderful opportunity to network and socialize with colleagues and business associates in a casual\, relaxed setting. \n\n\n\nBoarding begins at 5:15 with the boat departing at 5:30 Sharp. Car- pooling is encouraged\, assistance with parking is available as well. \n\n\n\n(This event was rescheduled from June 5\, 2019).
X-ALT-DESC;FMTTYPE=text/html:Join us for a 2 - Hour Sunset Cruise of Falmouth Harbor including views of Martha&#39\;s Vineyard. Sandwich Buffet\, Appetizers &amp\; Assorted Desserts will be served. Cash Bar ONLY available. A wonderful opportunity to network and socialize with colleagues and business associates in a casual\, relaxed setting.&nbsp\;<br />\n<br />\nBoarding begins at 5:15 with the boat departing at 5:30 Sharp. Car- pooling is encouraged\, assistance with parking is available as well.&nbsp\;<br />\n<br />\n(This event was rescheduled from June 5\, 2019).&nbsp\;<br />\n<br />\n&nbsp\;
LOCATION:Dock: 75 Falmouth Heights Road Falmouth Harbor
UID:e.9253.1301
SEQUENCE:3
DTSTAMP:20260421T174356Z
URL:https://members.capecodbuilders.org/events/details/2nd-annual-island-queen-sunset-cruise-1301
END:VEVENT

END:VCALENDAR
